BEGIN:VCALENDAR
VERSION:2.0
PRODID:-//My Calendar//http://www.joedolson.com//v3.1.9//EN
METHOD:PUBLISH
CALSCALE:GREGORIAN
X-WR-CALNAME:AMPA-Abaco
X-PUBLISHED-TTL:PT24H
REFRESH-INTERVAL;VALUE=DURATION:PT24H
X-WR-CALDESC:Events from AMPA-Abaco
BEGIN:VEVENT
UID:49-34
LOCATION:
SUMMARY:Taller de Halloween
DTSTAMP:20241025T171500
ORGANIZER;CN=Ampa Abaco:MAILTO:elenagonru@gmail.com
DTSTART;TZID=Etc/GMT+0:20241025T171500
DTEND;TZID=Etc/GMT+0:20241025T181500
URL;VALUE=URI:http://ampacolegioabaco.es/?page_id=184
DESCRIPTION: 
CATEGORIES:General
END:VEVENT
BEGIN:VEVENT
UID:48-33
LOCATION:
SUMMARY:Atención en el local
DTSTAMP:20191108T171500
ORGANIZER;CN=Ampa Abaco:MAILTO:elenagonru@gmail.com
DTSTART;TZID=Etc/GMT+0:20191108T171500
DTEND;TZID=Etc/GMT+0:20191108T180000
URL;VALUE=URI:http://ampacolegioabaco.es/?page_id=184
DESCRIPTION:Como todos los primeros viernes de mes, realizamos la atención en el local del Ampa de 17:15 a 18 horas. 
CATEGORIES:General
END:VEVENT
BEGIN:VEVENT
UID:47-32
LOCATION:
SUMMARY:Día del Colegio
DTSTAMP:20180318T100000
ORGANIZER;CN=Ampa Abaco:MAILTO:elenagonru@gmail.com
DTSTART;TZID=Etc/GMT+0:20180318T100000
DTEND;TZID=Etc/GMT+0:20180318T140000
URL;VALUE=URI:http://ampacolegioabaco.es/?page_id=184
DESCRIPTION:Invitamos a todos los padres a acudir a este día festivo del colegio y nuestros hijos. En él podremos ver el trabajo que han ido realizando todos los meses, y que con tanta ilusión esperan a enseñar a sus familiares. 
CATEGORIES:General
END:VEVENT
BEGIN:VEVENT
UID:46-31
LOCATION:
SUMMARY:Atención al local
DTSTAMP:20180202T171500
ORGANIZER;CN=Ampa Abaco:MAILTO:elenagonru@gmail.com
DTSTART;TZID=Etc/GMT+0:20180202T171500
DTEND;TZID=Etc/GMT+0:20180202T180000
URL;VALUE=URI:http://ampacolegioabaco.es/?page_id=184
DESCRIPTION:E intercambio de uniformes. 
CATEGORIES:General
END:VEVENT
BEGIN:VEVENT
UID:40-30
LOCATION:
SUMMARY:Atención al local
DTSTAMP:20180112T171500
ORGANIZER;CN=Ampa Abaco:MAILTO:elenagonru@gmail.com
DTSTART;TZID=Etc/GMT+0:20180112T171500
DTEND;TZID=Etc/GMT+0:20180112T180000
URL;VALUE=URI:http://ampacolegioabaco.es/?page_id=184
DESCRIPTION:E intercambio de uniformes 
CATEGORIES:General
END:VEVENT
BEGIN:VEVENT
UID:39-29
LOCATION:
SUMMARY:Atención al local
DTSTAMP:20171201T171500
ORGANIZER;CN=Ampa Abaco:MAILTO:elenagonru@gmail.com
DTSTART;TZID=Etc/GMT+0:20171201T171500
DTEND;TZID=Etc/GMT+0:20171201T180000
URL;VALUE=URI:http://ampacolegioabaco.es/?page_id=184
DESCRIPTION:E intercambio de uniformes 
CATEGORIES:General
END:VEVENT
BEGIN:VEVENT
UID:38-28
LOCATION:
SUMMARY:Asamblea General del Ampa
DTSTAMP:20171019T171500
ORGANIZER;CN=Ampa Abaco:MAILTO:elenagonru@gmail.com
DTSTART;TZID=Etc/GMT+0:20171019T171500
DTEND;TZID=Etc/GMT+0:20171019T183000
URL;VALUE=URI:http://ampacolegioabaco.es/?page_id=184
DESCRIPTION: 
CATEGORIES:General
END:VEVENT
BEGIN:VEVENT
UID:37-27
LOCATION:
SUMMARY:Día no lectivo
DTSTAMP:20170317T000000
ORGANIZER;CN=Ampa Abaco:MAILTO:elenagonru@gmail.com
DTSTART;TZID=Etc/GMT+0:20170317T000000
DTEND;TZID=Etc/GMT+0:20170318T000000
URL;VALUE=URI:http://ampacolegioabaco.es/?page_id=184
DESCRIPTION: 
CATEGORIES:General
X-FUNAMBOL-ALLDAY: 1
X-MICROSOFT-CDO-ALLDAYEVENT: TRUE

END:VEVENT
BEGIN:VEVENT
UID:36-26
LOCATION:
SUMMARY:Día del Colegio
DTSTAMP:20170325T110000
ORGANIZER;CN=Ampa Abaco:MAILTO:elenagonru@gmail.com
DTSTART;TZID=Etc/GMT+0:20170325T110000
DTEND;TZID=Etc/GMT+0:20170325T133000
URL;VALUE=URI:http://ampacolegioabaco.es/?page_id=184
DESCRIPTION:VII Concurso Gastronómico organizado por el AMPA 
CATEGORIES:General
END:VEVENT
BEGIN:VEVENT
UID:35-25
LOCATION:
SUMMARY:Atención al local
DTSTAMP:20170428T171500
ORGANIZER;CN=Ampa Abaco:MAILTO:elenagonru@gmail.com
DTSTART;TZID=Etc/GMT+0:20170428T171500
DTEND;TZID=Etc/GMT+0:20170428T181500
URL;VALUE=URI:http://ampacolegioabaco.es/?page_id=184
DESCRIPTION: 
CATEGORIES:General
END:VEVENT
BEGIN:VEVENT
UID:34-24
LOCATION:
SUMMARY:Atención al local
DTSTAMP:20170331T171500
ORGANIZER;CN=Ampa Abaco:MAILTO:elenagonru@gmail.com
DTSTART;TZID=Etc/GMT+0:20170331T171500
DTEND;TZID=Etc/GMT+0:20170331T181500
URL;VALUE=URI:http://ampacolegioabaco.es/?page_id=184
DESCRIPTION: 
CATEGORIES:General
END:VEVENT
BEGIN:VEVENT
UID:33-23
LOCATION:
SUMMARY:Atención al local
DTSTAMP:20170224T171500
ORGANIZER;CN=Ampa Abaco:MAILTO:elenagonru@gmail.com
DTSTART;TZID=Etc/GMT+0:20170224T171500
DTEND;TZID=Etc/GMT+0:20170224T181500
URL;VALUE=URI:http://ampacolegioabaco.es/?page_id=184
DESCRIPTION: 
CATEGORIES:General
END:VEVENT
BEGIN:VEVENT
UID:31-22
LOCATION:
SUMMARY:Día no lectivo
DTSTAMP:20170217T000000
ORGANIZER;CN={host}:MAILTO:{host_email}
DTSTART;TZID=Etc/GMT+0:20170217T000000
DTEND;TZID=Etc/GMT+0:20170218T000000
URL;VALUE=URI:http://ampacolegioabaco.es/?page_id=184
DESCRIPTION: 
CATEGORIES:General
X-FUNAMBOL-ALLDAY: 1
X-MICROSOFT-CDO-ALLDAYEVENT: TRUE

END:VEVENT
BEGIN:VEVENT
UID:32-21
LOCATION:
SUMMARY:Atención al local
DTSTAMP:20170127T171500
ORGANIZER;CN={host}:MAILTO:{host_email}
DTSTART;TZID=Etc/GMT+0:20170127T171500
DTEND;TZID=Etc/GMT+0:20170127T181500
URL;VALUE=URI:http://ampacolegioabaco.es/?page_id=184
DESCRIPTION:Estaremos en el local del Ampa desde las 17:15 hasta las 18:15 horas. 
CATEGORIES:General
END:VEVENT
BEGIN:VEVENT
UID:25-20
LOCATION:
SUMMARY:VENTA DE ENTRADAS PARA TODOS
DTSTAMP:20150209T173000
ORGANIZER;CN={host}:MAILTO:{host_email}
DTSTART;TZID=Etc/GMT+0:20150209T173000
DTEND;TZID=Etc/GMT+0:20150209T183000
URL;VALUE=URI:http://ampacolegioabaco.es/?page_id=184
DESCRIPTION: 
CATEGORIES:General
END:VEVENT
BEGIN:VEVENT
UID:26-19
LOCATION:
SUMMARY:VENTA DE ENTRADAS PARA TODOS
DTSTAMP:20150210T173000
ORGANIZER;CN={host}:MAILTO:{host_email}
DTSTART;TZID=Etc/GMT+0:20150210T173000
DTEND;TZID=Etc/GMT+0:20150210T183000
URL;VALUE=URI:http://ampacolegioabaco.es/?page_id=184
DESCRIPTION: 
CATEGORIES:General
END:VEVENT
BEGIN:VEVENT
UID:23-18
LOCATION:
SUMMARY:VENTA DE ENTRADAS TEATRO PARA SOCIOS
DTSTAMP:20150206T173000
ORGANIZER;CN={host}:MAILTO:{host_email}
DTSTART;TZID=Etc/GMT+0:20150206T173000
DTEND;TZID=Etc/GMT+0:20150206T180000
URL;VALUE=URI:http://ampacolegioabaco.es/?page_id=184
DESCRIPTION: 
CATEGORIES:General
END:VEVENT
BEGIN:VEVENT
UID:22-17
LOCATION:
SUMMARY:TEATRURAS
DTSTAMP:20150222T120000
ORGANIZER;CN={host}:MAILTO:{host_email}
DTSTART;TZID=Etc/GMT+0:20150222T120000
DTEND;TZID=Etc/GMT+0:20150222T130000
URL;VALUE=URI:http://ampacolegioabaco.es/?page_id=184
DESCRIPTION: 
CATEGORIES:General
END:VEVENT
BEGIN:VEVENT
UID:21-16
LOCATION:
SUMMARY:Dias de Atención del Local
DTSTAMP:20150619T171500
ORGANIZER;CN=Ampa Colegio Ábaco:MAILTO:ampa.abaco@gmail.com
DTSTART;TZID=Etc/GMT+0:20150619T171500
DTEND;TZID=Etc/GMT+0:20150619T181500
URL;VALUE=URI:http://ampacolegioabaco.es/?page_id=184
DESCRIPTION: 
CATEGORIES:General
END:VEVENT
BEGIN:VEVENT
UID:20-15
LOCATION:
SUMMARY:Dias de Atención del Local
DTSTAMP:20150605T171500
ORGANIZER;CN=Ampa Colegio Ábaco:MAILTO:ampa.abaco@gmail.com
DTSTART;TZID=Etc/GMT+0:20150605T171500
DTEND;TZID=Etc/GMT+0:20150605T181500
URL;VALUE=URI:http://ampacolegioabaco.es/?page_id=184
DESCRIPTION: 
CATEGORIES:General
END:VEVENT
BEGIN:VEVENT
UID:19-14
LOCATION:
SUMMARY:Dias de Atención del Local
DTSTAMP:20150522T171500
ORGANIZER;CN=Ampa Colegio Ábaco:MAILTO:ampa.abaco@gmail.com
DTSTART;TZID=Etc/GMT+0:20150522T171500
DTEND;TZID=Etc/GMT+0:20150522T181500
URL;VALUE=URI:http://ampacolegioabaco.es/?page_id=184
DESCRIPTION: 
CATEGORIES:General
END:VEVENT
BEGIN:VEVENT
UID:18-13
LOCATION:
SUMMARY:Dias de Atención del Local
DTSTAMP:20150508T171500
ORGANIZER;CN=Ampa Colegio Ábaco:MAILTO:ampa.abaco@gmail.com
DTSTART;TZID=Etc/GMT+0:20150508T171500
DTEND;TZID=Etc/GMT+0:20150508T181500
URL;VALUE=URI:http://ampacolegioabaco.es/?page_id=184
DESCRIPTION: 
CATEGORIES:General
END:VEVENT
BEGIN:VEVENT
UID:17-12
LOCATION:
SUMMARY:Dias de Atención del Local
DTSTAMP:20150424T171500
ORGANIZER;CN=Ampa Colegio Ábaco:MAILTO:ampa.abaco@gmail.com
DTSTART;TZID=Etc/GMT+0:20150424T171500
DTEND;TZID=Etc/GMT+0:20150424T181500
URL;VALUE=URI:http://ampacolegioabaco.es/?page_id=184
DESCRIPTION: 
CATEGORIES:General
END:VEVENT
BEGIN:VEVENT
UID:16-11
LOCATION:
SUMMARY:Dias de Atención del Local
DTSTAMP:20150410T171500
ORGANIZER;CN=Ampa Colegio Ábaco:MAILTO:ampa.abaco@gmail.com
DTSTART;TZID=Etc/GMT+0:20150410T171500
DTEND;TZID=Etc/GMT+0:20150410T181500
URL;VALUE=URI:http://ampacolegioabaco.es/?page_id=184
DESCRIPTION: 
CATEGORIES:General
END:VEVENT
BEGIN:VEVENT
UID:15-10
LOCATION:
SUMMARY:Dias de Atención del Local
DTSTAMP:20150320T171500
ORGANIZER;CN=Ampa Colegio Ábaco:MAILTO:ampa.abaco@gmail.com
DTSTART;TZID=Etc/GMT+0:20150320T171500
DTEND;TZID=Etc/GMT+0:20150320T181500
URL;VALUE=URI:http://ampacolegioabaco.es/?page_id=184
DESCRIPTION: 
CATEGORIES:General
END:VEVENT
BEGIN:VEVENT
UID:14-9
LOCATION:
SUMMARY:Dias de Atención del Local
DTSTAMP:20150306T171500
ORGANIZER;CN=Ampa Colegio Ábaco:MAILTO:ampa.abaco@gmail.com
DTSTART;TZID=Etc/GMT+0:20150306T171500
DTEND;TZID=Etc/GMT+0:20150306T181500
URL;VALUE=URI:http://ampacolegioabaco.es/?page_id=184
DESCRIPTION: 
CATEGORIES:General
END:VEVENT
BEGIN:VEVENT
UID:13-8
LOCATION:
SUMMARY:Dias de Atención del Local
DTSTAMP:20150220T171500
ORGANIZER;CN=Ampa Colegio Ábaco:MAILTO:ampa.abaco@gmail.com
DTSTART;TZID=Etc/GMT+0:20150220T171500
DTEND;TZID=Etc/GMT+0:20150220T181500
URL;VALUE=URI:http://ampacolegioabaco.es/?page_id=184
DESCRIPTION: 
CATEGORIES:General
END:VEVENT
BEGIN:VEVENT
UID:12-7
LOCATION:
SUMMARY:Dias de Atención del Local
DTSTAMP:20150130T171500
ORGANIZER;CN=Ampa Colegio Ábaco:MAILTO:ampa.abaco@gmail.com
DTSTART;TZID=Etc/GMT+0:20150130T171500
DTEND;TZID=Etc/GMT+0:20150130T181500
URL;VALUE=URI:http://ampacolegioabaco.es/?page_id=184
DESCRIPTION: 
CATEGORIES:General
END:VEVENT
BEGIN:VEVENT
UID:11-6
LOCATION:
SUMMARY:Dias de Atención del Local
DTSTAMP:20150116T171500
ORGANIZER;CN=Ampa Colegio Ábaco:MAILTO:ampa.abaco@gmail.com
DTSTART;TZID=Etc/GMT+0:20150116T171500
DTEND;TZID=Etc/GMT+0:20150116T181500
URL;VALUE=URI:http://ampacolegioabaco.es/?page_id=184
DESCRIPTION: 
CATEGORIES:General
END:VEVENT
BEGIN:VEVENT
UID:7-2
LOCATION:
SUMMARY:Dias de Atención del Local
DTSTAMP:20141121T171500
ORGANIZER;CN=Ampa Colegio Ábaco:MAILTO:ampa.abaco@gmail.com
DTSTART;TZID=Etc/GMT+0:20141121T171500
DTEND;TZID=Etc/GMT+0:20141121T181500
URL;VALUE=URI:http://ampacolegioabaco.es/?page_id=184
DESCRIPTION: 
CATEGORIES:General
END:VEVENT
END:VCALENDAR